BEGIN:VCALENDAR
VERSION:2.0
PRODID:-//Capstone Solutions - ECPv6.15.20//NONSGML v1.0//EN
CALSCALE:GREGORIAN
METHOD:PUBLISH
X-ORIGINAL-URL:https://capstonesolutionsinc.com
X-WR-CALDESC:Events for Capstone Solutions
REFRESH-INTERVAL;VALUE=DURATION:PT1H
X-Robots-Tag:noindex
X-PUBLISHED-TTL:PT1H
BEGIN:VTIMEZONE
TZID:America/New_York
BEGIN:DAYLIGHT
TZOFFSETFROM:-0500
TZOFFSETTO:-0400
TZNAME:EDT
DTSTART:20240310T070000
END:DAYLIGHT
BEGIN:STANDARD
TZOFFSETFROM:-0400
TZOFFSETTO:-0500
TZNAME:EST
DTSTART:20241103T060000
END:STANDARD
BEGIN:DAYLIGHT
TZOFFSETFROM:-0500
TZOFFSETTO:-0400
TZNAME:EDT
DTSTART:20250309T070000
END:DAYLIGHT
BEGIN:STANDARD
TZOFFSETFROM:-0400
TZOFFSETTO:-0500
TZNAME:EST
DTSTART:20251102T060000
END:STANDARD
BEGIN:DAYLIGHT
TZOFFSETFROM:-0500
TZOFFSETTO:-0400
TZNAME:EDT
DTSTART:20260308T070000
END:DAYLIGHT
BEGIN:STANDARD
TZOFFSETFROM:-0400
TZOFFSETTO:-0500
TZNAME:EST
DTSTART:20261101T060000
END:STANDARD
BEGIN:DAYLIGHT
TZOFFSETFROM:-0500
TZOFFSETTO:-0400
TZNAME:EDT
DTSTART:20270314T070000
END:DAYLIGHT
BEGIN:STANDARD
TZOFFSETFROM:-0400
TZOFFSETTO:-0500
TZNAME:EST
DTSTART:20271107T060000
END:STANDARD
END:VTIMEZONE
BEGIN:VTIMEZONE
TZID:UTC
BEGIN:STANDARD
TZOFFSETFROM:+0000
TZOFFSETTO:+0000
TZNAME:UTC
DTSTART:20190101T000000
END:STANDARD
END:VTIMEZONE
BEGIN:VEVENT
DTSTART;TZID=America/New_York:20260310T080000
DTEND;TZID=America/New_York:20260310T140000
DTSTAMP:20260423T091949
CREATED:20260110T210058Z
LAST-MODIFIED:20260110T210447Z
UID:1503-1773129600-1773151200@capstonesolutionsinc.com
SUMMARY:Capstone Women’s Leadership Excellence Forum 2026
DESCRIPTION:Capstone Women’s Leadership Excellence Forum 2026\nStanding Tall Together: Rooted in Purpose\, Rising to Excellence \nJoin Chairwoman Nicole Hendrickson and Dr. Tina Woodard on Tuesday\, March 10\, 2026 at the Gwinnett Environmental & Heritage Center in Buford\, GA for a transformative Women’s History Month experience. \nDiscover leadership insights\, connect with inspiring women and allies\, and celebrate excellence through panels\, networking circles\, awards\, and a women‑owned business showcase. \n🕗 8:30 A.M. – 2:00 P.M. \nElevate your leadership journey—save the date! \nMore details here: https://capstonesolutionsinc.com/capstone-womens-leadership-forum-2026/
URL:https://capstonesolutionsinc.com/event/capstone-womens-leadership-excellence-forum-2026/
LOCATION:Gwinnett Environmental & Heritage Center\, 2020 Clean Water Dr\, Buford\, GA\, 30519\, United States
END:VEVENT
BEGIN:VEVENT
DTSTART;TZID=America/New_York:20250130T083000
DTEND;TZID=America/New_York:20250130T170000
DTSTAMP:20260423T091949
CREATED:20260110T205351Z
LAST-MODIFIED:20260110T211249Z
UID:1501-1738225800-1738256400@capstonesolutionsinc.com
SUMMARY:Women’s Leadership Excellence Forum 2025
DESCRIPTION:Women in Manufacturing – Georgia Chapter + Capstone Performance Solutions\, Inc. co-present Women’s Leadership Excellence ForumTM \nTheme: “Elevating Women Leaders: Courage\, Innovation\, and Authenticity in Action”\n \nJoin us for the 2nd Annual Women’s Leadership Excellence Forum on January 30\, 2025! \nExperience an inspiring day filled with powerful leadership insights\, meaningful networking\, and empowering conversations—all hosted at AGCO Corporation in Duluth\, GA. This is a can’t‑miss opportunity to learn\, connect\, and grow alongside exceptional leaders.  \nWhat’s in store?\n💡 Inspiring keynote speakers\n🤝 Powerful networking opportunities\n🏆 The Woman of Excellence Award presentation\n✨ Refreshments\, discussions\, and a celebratory happy hour \n⏳ Don’t wait—seats are limited!\n🎟️ Register Now – https://lnkd.in/e4TeKsyT \nTag your colleagues and friends to let them know—it’s not too late to secure your spot! Register before 5pm on Jan. 27!
URL:https://capstonesolutionsinc.com/event/womens-leadership-excellence-forum-2025/
LOCATION:AGCO Corporation\, Duluth\, GA\, Duluth\, GA\, United States
END:VEVENT
BEGIN:VEVENT
DTSTART;VALUE=DATE:20241025
DTEND;VALUE=DATE:20251104
DTSTAMP:20260423T091949
CREATED:20250813T152655Z
LAST-MODIFIED:20250813T152655Z
UID:950-1729814400-1762214399@capstonesolutionsinc.com
SUMMARY:Broaden your global leadership outlook by attending our global leadership excellence immersive experience!™
DESCRIPTION:GLEIE Flyer \nThis is an experience you do not want to miss! \nOur Global Leadership Excellence Immersive Experience™ (GLEIE)\, is designed exclusively for middle-to senior-level leaders. This groundbreaking experience offers a transformative journey to elevate your global leadership capabilities and innovate in an interconnected world. \nBroaden your international outlook by traveling to Dubai for an experiential cohort-driven cultural immersion experience! \n\n\nKey Program Features: \n• Global Leadership Mindset: Develop a sophisticated global leadership mindset through a curated curriculum and immersive experiential learning opportunities. \n• Global Innovation: Gain insights into global trends and innovations across multiple industries in Dubai\, a leading smart city. \n• Competitive Edge: Engage in a meticulously structured Think Tank to leverage insights for advancing your career and organization. \n• Culture Immersion: Participate in hands-on learning experiences designed to foster cultural intelligence. \n• Professional Network: Connect with and learn from influential\, international figures across the globe! \n  \nProgram Details: \n\nDates: Friday\, October 25\, 2024\, through Sunday\, November 3\, 2024\nLocation:  Dubai\nApplication Deadline: Monday\, July 8\, 2024  Link to application\n\n  \nInformation Sessions: \n\n• Tuesday\, June 11th 12:00pm to 1:00pm\n• Tuesday\, June 25th 7:00pm to 8:00pm\n• Register to attend the Information Session\n• Includes tailored executive development\, site visits\, transfers\, and five-star hotel accommodations.  (air travel excluded)\n\n  \n \nLinkedIn Profile \n \nLinkedIn Profile
URL:https://capstonesolutionsinc.com/event/broaden-your-global-leadership-outlook-by-attending-our-global-leadership-excellence-immersive-experience/
LOCATION:GA
END:VEVENT
BEGIN:VEVENT
DTSTART;TZID=UTC:20240418T110000
DTEND;TZID=UTC:20240418T130000
DTSTAMP:20260423T091949
CREATED:20240313T175729Z
LAST-MODIFIED:20240313T175729Z
UID:235-1713438000-1713445200@capstonesolutionsinc.com
SUMMARY:Leadership Excellence Forum Luncheon
DESCRIPTION:Register
URL:https://capstonesolutionsinc.com/event/leadership-excellence-forum-luncheon/
LOCATION:GA
END:VEVENT
BEGIN:VEVENT
DTSTART;TZID=UTC:20240215T113000
DTEND;TZID=UTC:20240215T120000
DTSTAMP:20260423T091949
CREATED:20240214T230958Z
LAST-MODIFIED:20240214T230958Z
UID:225-1707996600-1707998400@capstonesolutionsinc.com
SUMMARY:Leadership Excellence Forum
DESCRIPTION:Join our Founder and CEO Dr. Tina Woodard\, Ed.D.\, PHR and our Senior Director of Programs Tammie M. Land for the February edition of the Leadership Excellence Forum on Thursday\, February 15 from 11:30 a.m. to 12:15 p.m. EST. Our special guest\, Scott Bell\, Vice President of Human Resources and Environmental Health and Safety at Qcells North America\, will share insights on how leaders may simultaneously leverage generative AI to support more strategic decision-making related to hiring\, training\, and development while fostering a supportive culture to eliminate worries among the workforce. To receive a complimentary registration\, use the link below to sign up today
URL:https://capstonesolutionsinc.com/event/225/
LOCATION:GA
END:VEVENT
BEGIN:VEVENT
DTSTART;TZID=UTC:20210325T110000
DTEND;TZID=UTC:20210520T140000
DTSTAMP:20260423T091949
CREATED:20230629T141242Z
LAST-MODIFIED:20230629T141242Z
UID:152-1616670000-1621519200@capstonesolutionsinc.com
SUMMARY:2021 Aspire to Excel: Women's Leadership Institute
DESCRIPTION:With a commitment to advancing the next level of women leaders\, Capstone is offering its second annual leadership institute designed exclusively for women leaders. The purpose of the institute is to develop leadership capacity and foster leadership connections among emerging and senior women business leaders and owners that will elevate the status of women leaders by addressing barriers that keep women from ascending to senior-level positions of power\, authority\, and influence. \nAspire to Excel Women’s Leadership Institute officially launches on March 25 with a virtual orientation. This year’s institute includes: \n\n\nFour 1.5-hour virtual group learning and coaching meetings (April 8\, April 22\, May 6\, and May 20) Topics will be tailored to the development needs of the cohort and may include self-awareness and confidence; communicating boldly\, empowered influence\, leading change\, and other relevant topics. \n\n\n1:1 virtual leadership coaching sessions at the beginning and during the program (scheduled independently) \n\n\nLeadership effectiveness assessments and feedback reports \n\n\nOn-Demand coaching conversation with a Capstone Organizational Leadership Consultant (scheduled independently) \n\n\nLearning Partner application & accountability sessions (scheduled independently) \n\n\nWeekly modules released from Dr. T’s Toolkit for Leadership Excellence \n\n\nSecure and exclusive access to the Aspire to Excel online learning portal replete with articles\, checklists\, as well as discussion groups\, and private chat capability with cohort colleagues and Dr. T throughout the program. \n\n\n*Bonus* Pre-Program Excelerator – a 2.5-hour\, private\, life purpose & action planning coaching session with Dr. T. \n\n\nTarget Audience: \nWomen who long for a safe\, judgment-free environment to learn\, grow and feel supported as they build their individual leadership capacity; who aspire to ascend into the leadership ranks in the future or as the next step along their career paths; and/or who have achieved a leadership position or business ownership but want to lead more effectively to have a broader and more powerful impact. \nTwo Cohorts: \n\n\nEmerging Leaders – women who aspire to management roles and managers/leaders who are early in their leadership career or business owners who are new to leading a team. \n\n\nSenior Leaders – women who lead strategy and shape organizational culture who are in a director or higher-level position and/or who manage managers and directors. This cohort is also for business owners who are expanding their team. \n\n\nFor additional information\, please email Dr. Tina Woodard at Twoodard@capstonesolutionsinc.com \n \nRegistration Information \nTwo Registration Options! \nYou may register for the institute only or you may register for the institute plus the Excelerator. The Excelerator is a 2.5-hour\, private\, pre-program life purpose & action planning coaching session with Dr. T valued at $900 but offered at a special rate of only $299 to Aspire Institute Women! \n  \nfrom $499.00\n\n\nAspire to Excel Registration:\nSelect Aspire to Excel RegistrationInstitute Only Institute plus Excelerator \n\n\nAdd Excelerator Private Coaching Special Offer:\nSelect Add Excelerator Private Coaching Special OfferNoYes\n\n\n\nQuantity:\n\n\n\nREGISTER NOW
URL:https://capstonesolutionsinc.com/event/registration-2021-aspire-to-excel-womens-leadership-institute/
LOCATION:GA
END:VEVENT
BEGIN:VEVENT
DTSTART;TZID=UTC:20200930T180000
DTEND;TZID=UTC:20201231T190000
DTSTAMP:20260423T091949
CREATED:20230629T140235Z
LAST-MODIFIED:20230629T140235Z
UID:140-1601488800-1609441200@capstonesolutionsinc.com
SUMMARY:20 Minute Morning Show with Dr. Tina WoodardTuin
DESCRIPTION:Tune in to a recent episode of the 20-Minute Morning Show as Dr. Tina Woodard shares with host\, award-winning broadcast veteran\, Bj Murphy on how reflective leadership has played a role in her professional success and why journaling is a life-transforming practice for anyone seeking to grow in their leadership development.
URL:https://capstonesolutionsinc.com/event/20-minute-morning-show-with-dr-tina-woodard/
LOCATION:GA
END:VEVENT
BEGIN:VEVENT
DTSTART;TZID=UTC:20200801T100000
DTEND;TZID=UTC:20201231T235800
DTSTAMP:20260423T091949
CREATED:20230629T135700Z
LAST-MODIFIED:20230629T135700Z
UID:136-1596276000-1609459080@capstonesolutionsinc.com
SUMMARY:Right Talent\, Right Capabilities with Dr. Tina Woodard
DESCRIPTION:Tune in to an episode of Innovation meets Leadership Podcast as Dr. Tina Woodard joins Host Natalie Born for an in-depth discussion on the importance of identifying the right talent and developing the right capabilities to build a solid pipeline of leaders. \nSource:: https://capstonesolutionsinc.com/resources
URL:https://capstonesolutionsinc.com/event/right-talent-right-capabilities-with-dr-tina-woodard/
LOCATION:GA
END:VEVENT
BEGIN:VEVENT
DTSTART;TZID=UTC:20200324T144500
DTEND;TZID=UTC:20200324T154500
DTSTAMP:20260423T091949
CREATED:20230629T141147Z
LAST-MODIFIED:20230629T141147Z
UID:150-1585061100-1585064700@capstonesolutionsinc.com
SUMMARY:Speaker at the 2020 GA Emergency Medical Services Association (GEMSA) Directors & Leadership Conference
DESCRIPTION:Dr. Tina Woodard is honored to be an invited guest speaker at the GA Emergency Medical Services Association (GEMSA) Directors & Leadership Conference on March 24 from 2:45pm to 3:45pm at Lake Lanier’s Legacy Lodge. Her session which is entitled\, “Creating an Exceptional Employee Experience\,” will cover how to engage staff\, so they not only feel passionate about every task\, but they feel truly invested in the organization’s goals. For more information on the conference\, please click HERE
URL:https://capstonesolutionsinc.com/event/speaker-at-the-2020-ga-emergency-medical-services-association-gemsa-directors-amp-leadership-conference/
LOCATION:GA
END:VEVENT
BEGIN:VEVENT
DTSTART;TZID=UTC:20200224T073000
DTEND;TZID=UTC:20200224T093000
DTSTAMP:20260423T091949
CREATED:20230629T140720Z
LAST-MODIFIED:20230629T140720Z
UID:145-1582529400-1582536600@capstonesolutionsinc.com
SUMMARY:Mentor and Discussion Leader at Atlanta Business Chronicle's Bizwomen Mentoring Monday
DESCRIPTION:Join Dr. Tina Woodard at the Atlanta Business Chronicle’s Bizwomen Mentoring Monday as she leads a discussion table on “Ways to Overcome Imposter Syndrome.” Held in partnership with 43 other American City Business Journals\, Mentoring Monday is a two-hour “speed coaching” event that focuses on connecting and empowering businesswomen to realize their full potential. For more information and to register\, click HERE
URL:https://capstonesolutionsinc.com/event/mentor-and-discussion-leader-at-atlanta-business-chronicles-bizwomen-mentoring-monday/
LOCATION:GA
END:VEVENT
END:VCALENDAR